BEGIN:VCALENDAR
VERSION:2.0
PRODID:icalendar-ruby
CALSCALE:GREGORIAN
METHOD:PUBLISH
BEGIN:VEVENT
DTSTAMP:20260419T171849Z
UID:22-1168656@cantonfirstnaz.com
DTSTART:20260531T153000Z
DTEND:20260531T163000Z
CLASS:PUBLIC
CREATED:20260407T160519
DESCRIPTION:
LAST-MODIFIED:20260407T160519
LOCATION:2051 E Chestnut St Canton\, IL
SUMMARY:Celebration Sunday
URL;VALUE=URI:https://www.cantonfirstnaz.com/events/celebration-sunday--22/
 2026-05-31
ATTACH;FILENAME=CelebrationSunday_1.jpg;FMTTYPE=image/jpeg:https://dq5pwpg1
 q8ru0.cloudfront.net/2026/04/07/21/05/18/2438340e-21c9-48a8-8e36-76913bf26
 707/CelebrationSunday_1.jpg
END:VEVENT
END:VCALENDAR
