BEGIN:VCALENDAR
VERSION:2.0
PRODID:icalendar-ruby
CALSCALE:GREGORIAN
METHOD:PUBLISH
BEGIN:VEVENT
DTSTAMP:20260421T115642Z
UID:10-1183797@cantonfirstnaz.com
DTSTART:20261101T153000Z
DTEND:20261101T182000Z
CLASS:PUBLIC
CREATED:20260420T201106
DESCRIPTION:Join us at 9:30 for Sunday School! We have classes for all ages
 .
LAST-MODIFIED:20260420T201106
LOCATION:
SUMMARY:Sunday School
URL;VALUE=URI:https://www.cantonfirstnaz.com/events/sunday-school/2026-11-0
 1
ATTACH;FILENAME=cfvidmain.jpg;FMTTYPE=image/jpeg:https://dq5pwpg1q8ru0.clou
 dfront.net/2025/03/24/14/11/48/f3fc2edc-a3cc-4d91-b7a6-297a85e67d74/cfvidm
 ain.jpg
END:VEVENT
END:VCALENDAR
