BEGIN:VCALENDAR
VERSION:2.0
PRODID:icalendar-ruby
CALSCALE:GREGORIAN
METHOD:PUBLISH
BEGIN:VEVENT
DTSTAMP:20260420T224038Z
UID:7-1183520@cantonfirstnaz.com
DTSTART:20260812T233000Z
DTEND:20260813T003000Z
CLASS:PUBLIC
CREATED:20260420T173635
DESCRIPTION:
LAST-MODIFIED:20260420T173635
LOCATION:
SUMMARY:Wednesday Nights @ Canton 1st
URL;VALUE=URI:https://www.cantonfirstnaz.com/events/wednesday-nights-canton
 -1st/2026-08-12
ATTACH;FILENAME=wednightsannouncefb.jpg;FMTTYPE=image/jpeg:https://dq5pwpg1
 q8ru0.cloudfront.net/2025/03/18/21/10/52/e1648cd5-c766-4c75-be3d-a0521a808
 5b9/wednightsannouncefb.jpg
END:VEVENT
END:VCALENDAR
