BEGIN:VCALENDAR
VERSION:2.0
PRODID:icalendar-ruby
CALSCALE:GREGORIAN
METHOD:PUBLISH
BEGIN:VEVENT
DTSTAMP:20260421T045838Z
UID:7-1183714@cantonfirstnaz.com
DTSTART:20260909T233000Z
DTEND:20260910T003000Z
CLASS:PUBLIC
CREATED:20260420T201106
DESCRIPTION:
LAST-MODIFIED:20260420T201106
LOCATION:
SUMMARY:Wednesday Nights @ Canton 1st
URL;VALUE=URI:https://www.cantonfirstnaz.com/events/wednesday-nights-canton
 -1st/2026-09-09
ATTACH;FILENAME=wednightsannouncefb.jpg;FMTTYPE=image/jpeg:https://dq5pwpg1
 q8ru0.cloudfront.net/2025/03/18/21/10/52/e1648cd5-c766-4c75-be3d-a0521a808
 5b9/wednightsannouncefb.jpg
END:VEVENT
END:VCALENDAR
